BEGIN:VCALENDAR
VERSION:2.0
PRODID:-//Tukios.com/
BEGIN:VEVENT
UID:c0ce1e18-51f6-4423-8b52-59574429aaab@www.cpcleburne.com
DTSTAMP:20260424T224648Z
DTSTART:20260508T230000Z
DTEND:20260509T010000Z
SUMMARY:Visitation
DESCRIPTION:
URL:https://www.cpcleburne.com/obituaries/thomas-tom-langford-iii
LOCATION: 512 N Ridgeway Dr  Cleburne TX 76033
GEO:32.3470686;-97.411873
END:VEVENT
END:VCALENDAR