BEGIN:VCALENDAR
VERSION:2.0
PRODID:-//Tukios.com/
BEGIN:VEVENT
UID:b85f453a-5260-4fa9-84da-08f21bce65c4@www.cpcleburne.com
DTSTAMP:20260424T224633Z
DTSTART:20260509T150000Z
DTEND:20260509T160000Z
SUMMARY:Graveside Service
DESCRIPTION:
URL:https://www.cpcleburne.com/obituaries/thomas-tom-langford-iii
LOCATION: 405 Waters Street  Cleburne TX 76031
GEO:32.3467167;-97.3712393
END:VEVENT
END:VCALENDAR