BEGIN:VCALENDAR
VERSION:2.0
PRODID:-//Tukios.com/
BEGIN:VEVENT
UID:9fded13e-9686-4780-bb4a-9d8ab9bd6d46@www.cpcleburne.com
DTSTAMP:20260423T163018Z
DTSTART:20260524T210000Z
DTEND:20260524T220000Z
SUMMARY:Funeral Service
DESCRIPTION:
URL:https://www.cpcleburne.com/obituaries/stanley-seery
LOCATION: 114 South Fairview Street  Keene TX 76059
GEO:32.3957234;-97.3246912
END:VEVENT
END:VCALENDAR