BEGIN:VCALENDAR
VERSION:2.0
PRODID:-//Tukios.com/
BEGIN:VEVENT
UID:ba8666d4-1b72-4787-964f-656456c847f9@www.cpcleburne.com
DTSTAMP:20260419T212831Z
DTSTART:20260422T180000Z
DTEND:20260422T190000Z
SUMMARY:Burial
DESCRIPTION:
URL:https://www.cpcleburne.com/obituaries/lilburn-lb-bledsue-jr
LOCATION:Antioch Cemetery 9370 County Road 304A  Grandview TX 76050
GEO:32.3087494;-97.1929814
END:VEVENT
END:VCALENDAR