BEGIN:VCALENDAR
VERSION:2.0
PRODID:-//Tukios.com/
BEGIN:VEVENT
UID:d6393cbf-a012-4efe-ae19-1c0b768e41d6@www.cpcleburne.com
DTSTAMP:20260419T212527Z
DTSTART:20260421T230000Z
DTEND:20260422T010000Z
SUMMARY:Visitation
DESCRIPTION:
URL:https://www.cpcleburne.com/obituaries/lilburn-lb-bledsue-jr
LOCATION: 512 N Ridgeway Dr  Cleburne TX 76033
GEO:32.3470686;-97.411873
END:VEVENT
END:VCALENDAR