BEGIN:VCALENDAR
VERSION:2.0
PRODID:-//Tukios.com/
BEGIN:VEVENT
UID:adb7f75b-245f-4f7e-b0bc-edb02a0ef81d@www.cpcleburne.com
DTSTAMP:20260419T212929Z
DTSTART:20260422T150000Z
DTEND:20260422T160000Z
SUMMARY:Funeral Service
DESCRIPTION:
URL:https://www.cpcleburne.com/obituaries/lilburn-lb-bledsue-jr
LOCATION: 512 N Ridgeway Dr  Cleburne TX 76033
GEO:32.3470686;-97.411873
END:VEVENT
END:VCALENDAR