BEGIN:VCALENDAR
VERSION:2.0
PRODID:-//Tukios.com/
BEGIN:VEVENT
UID:cb998832-1973-4bc8-a0d2-3c820e00bd67@www.cpcleburne.com
DTSTAMP:20260422T203959Z
DTSTART:20260424
SUMMARY:Burial
DESCRIPTION:
URL:https://www.cpcleburne.com/obituaries/johnny-miracle
LOCATION: 3201 North Main Street  Cleburne TX 76033
GEO:32.4050045;-97.3860994
END:VEVENT
END:VCALENDAR