BEGIN:VCALENDAR
VERSION:2.0
PRODID:-//Tukios.com/
BEGIN:VEVENT
UID:6d30a407-66bc-4cee-9368-fc31ea9a5dd1@www.cpcleburne.com
DTSTAMP:20260422T204212Z
DTSTART:20260424T150000Z
DTEND:20260424T160000Z
SUMMARY:Funeral Service
DESCRIPTION:
URL:https://www.cpcleburne.com/obituaries/johnny-miracle
LOCATION: 512 N Ridgeway Dr  Cleburne TX 76033
GEO:32.3470686;-97.411873
END:VEVENT
END:VCALENDAR