BEGIN:VCALENDAR
VERSION:2.0
PRODID:-//Tukios.com/
BEGIN:VEVENT
UID:c5ab6a64-8396-41f9-94be-e65e41b4d095@www.cpcleburne.com
DTSTAMP:20260421T031105Z
DTSTART:20260424T230000Z
DTEND:20260425T010000Z
SUMMARY:Memorial Gathering
DESCRIPTION:
URL:https://www.cpcleburne.com/obituaries/boozy-h-l-bingham
LOCATION: 512 N Ridgeway Dr  Cleburne TX 76033
GEO:32.3470686;-97.411873
END:VEVENT
END:VCALENDAR